BEGIN:VCALENDAR
VERSION:2.0
PRODID:-//A Touch of Mystery &amp; More Entertainment Group - ECPv6.15.20//NONSGML v1.0//EN
CALSCALE:GREGORIAN
METHOD:PUBLISH
X-WR-CALNAME:A Touch of Mystery &amp; More Entertainment Group
X-ORIGINAL-URL:https://atouchofmystery.com
X-WR-CALDESC:Events for A Touch of Mystery &amp; More Entertainment Group
REFRESH-INTERVAL;VALUE=DURATION:PT1H
X-Robots-Tag:noindex
X-PUBLISHED-TTL:PT1H
BEGIN:VTIMEZONE
TZID:America/Los_Angeles
BEGIN:DAYLIGHT
TZOFFSETFROM:-0800
TZOFFSETTO:-0700
TZNAME:PDT
DTSTART:20200308T100000
END:DAYLIGHT
BEGIN:STANDARD
TZOFFSETFROM:-0700
TZOFFSETTO:-0800
TZNAME:PST
DTSTART:20201101T090000
END:STANDARD
BEGIN:DAYLIGHT
TZOFFSETFROM:-0800
TZOFFSETTO:-0700
TZNAME:PDT
DTSTART:20210314T100000
END:DAYLIGHT
BEGIN:STANDARD
TZOFFSETFROM:-0700
TZOFFSETTO:-0800
TZNAME:PST
DTSTART:20211107T090000
END:STANDARD
BEGIN:DAYLIGHT
TZOFFSETFROM:-0800
TZOFFSETTO:-0700
TZNAME:PDT
DTSTART:20220313T100000
END:DAYLIGHT
BEGIN:STANDARD
TZOFFSETFROM:-0700
TZOFFSETTO:-0800
TZNAME:PST
DTSTART:20221106T090000
END:STANDARD
END:VTIMEZONE
BEGIN:VEVENT
DTSTART;TZID=America/Los_Angeles:20210317T190000
DTEND;TZID=America/Los_Angeles:20210317T210000
DTSTAMP:20260422T023359
CREATED:20201111T233727Z
LAST-MODIFIED:20210316T024443Z
UID:6117-1616007600-1616014800@atouchofmystery.com
SUMMARY:The Celtic Kick-OFF Caper! - Annual St. Patrick's Day Whodunit (March 17\, 2021)
DESCRIPTION:It’s time for our annual St. Patrick’s Whodunit 2021!\n*ALL RESERVATION FEES ARE NON-REFUNDABLE\nThis event is SOLD OUT. There are still a few tables left for the show on March 18th for 4-6 people per table.\n\nPlease call before making your online reservation or if you’d like to be placed on a waitlist for a 2-top table (702) 497-7936\nIt’s no MYSTERY our annual St. Patrick’s Whodunit has become a tradition. This 5-course evening is intertwined with 3-courses of great food and 2-courses of devilishly fun entertainment. From the moment you arrive at Lawry’s Prime Rib Las Vegas\, you are greeted by the quirky cast of characters who will take you on a journey of Mystery\, Intrigue\, Mayhem & FUN! This interactive Mystery is presented throughout your dinner\, and our mysterious cast of characters will engage you in quiet conversation even while dining\, about the mystery at hand. \nThe Celtic Kick-OFF Caper! ISN’T your “usual” Mystery Dinner!\n\nPatrick “Patty” O’Brien’s life was full of surprises\, so it’s no wonder the biggest surprise of all followed him to his own WAKE! Not all is as it seems … Are the grieving wife’s tears REAL? Did his daughter secure a tidy little inheritance ahead of time? Did the Mob Enforcer get it wrong? This Celtic wake promises to be one doozy of a party! \nBe on the lookout for the following characters: \n\n\nPatricia “Patty” O’Brien – The Italian Mob Daughter\nMoira O’Brien – Patrick’s Daughter\nJonathan Kelley – Patrick’s Attorney\nSamantha Richardson – The Art Gallery Owner\nMarco Sullivan – The Mob Enforcer\nFather Seamus Paddington – The Priest\n\nPut your detective hats on and solve a live Mystery while enjoying Lawry’s Signature Service. \nIn Partnership with \n \nDinner Description\nOriginal Spinning Bowl Salad served with fresh sourdough bread \nENTREE\n(Server will take the order at the time of dinner) \nCHOICE OF\n8 oz. Roasted Prime Rib of Beef\nserved with Mashed Potatoes and Gravy\, Yorkshire Pudding \nOR\nOven-Roasted Salmon Fillet\nServed with a Lemon Sauce Beurre Blanc\, Mashed Potatoes\nand Seasonal Fresh Vegetables. \nOR\nVegetarian Entree of the Day \nFreshly brewed LavAzza Coffee or Harney & Sons Hot Tea \nDESSERT\nChef’s Special Dessert \nBar Beverages \n(Cash upon receipt\, not included in menu price)\nSoda\, Juice\, Mineral Water\nCocktails\, Wine\, Beer \nONLY $115.00\nInclusive of tax\, tip and the Mystery! VIP Rewards are not accepted for this event. Lawry’s Gift Cards are not accepted toward the payment of seats. Advanced reservations required.\nThere are a limited number of seats available for this special event. \nSAFETY INFORMATION \nTables will be at least 6 feet apart. Tables are available for parties of 2-6. If more than 6\, the party will be seated at separate tables. Guests will be seated only with members of their party. Masks are required when not seated at a table with food or drink. Maximum occupancy is 60. ***Please keep in mind there are a limited number of 2 top\, 4 top & 6 top tables.\n \n***Please call before making your online reservation (702) 497-7936
URL:https://atouchofmystery.com/event/the-celtic-kick-off-caper-annual-st-patricks-day-whodunit-march-17-2021/
LOCATION:Public Show @ Lawrys The Prime Rib Beverly Hills\, 100 N. La Cienega Blvd.\, Beverly Hills\, CA\, 90211\, United States
CATEGORIES:Lawry's Prime Rib Las Vegas,Upcoming Events
ATTACH;FMTTYPE=image/jpeg:https://atouchofmystery.com/wp-content/uploads/2016/08/celtickickoffCaperPoster.jpg
ORGANIZER;CN="A Touch of Mystery & More Entertainment Group":MAILTO:info@atouchofmystery.com
END:VEVENT
END:VCALENDAR