BEGIN:VCALENDAR
VERSION:2.0
PRODID:-//A Touch of Mystery &amp; More Entertainment Group - ECPv6.15.20//NONSGML v1.0//EN
CALSCALE:GREGORIAN
METHOD:PUBLISH
X-WR-CALNAME:A Touch of Mystery &amp; More Entertainment Group
X-ORIGINAL-URL:https://atouchofmystery.com
X-WR-CALDESC:Events for A Touch of Mystery &amp; More Entertainment Group
REFRESH-INTERVAL;VALUE=DURATION:PT1H
X-Robots-Tag:noindex
X-PUBLISHED-TTL:PT1H
BEGIN:VTIMEZONE
TZID:America/Los_Angeles
BEGIN:DAYLIGHT
TZOFFSETFROM:-0800
TZOFFSETTO:-0700
TZNAME:PDT
DTSTART:20220313T100000
END:DAYLIGHT
BEGIN:STANDARD
TZOFFSETFROM:-0700
TZOFFSETTO:-0800
TZNAME:PST
DTSTART:20221106T090000
END:STANDARD
BEGIN:DAYLIGHT
TZOFFSETFROM:-0800
TZOFFSETTO:-0700
TZNAME:PDT
DTSTART:20230312T100000
END:DAYLIGHT
BEGIN:STANDARD
TZOFFSETFROM:-0700
TZOFFSETTO:-0800
TZNAME:PST
DTSTART:20231105T090000
END:STANDARD
BEGIN:DAYLIGHT
TZOFFSETFROM:-0800
TZOFFSETTO:-0700
TZNAME:PDT
DTSTART:20240310T100000
END:DAYLIGHT
BEGIN:STANDARD
TZOFFSETFROM:-0700
TZOFFSETTO:-0800
TZNAME:PST
DTSTART:20241103T090000
END:STANDARD
BEGIN:DAYLIGHT
TZOFFSETFROM:-0800
TZOFFSETTO:-0700
TZNAME:PDT
DTSTART:20250309T100000
END:DAYLIGHT
BEGIN:STANDARD
TZOFFSETFROM:-0700
TZOFFSETTO:-0800
TZNAME:PST
DTSTART:20251102T090000
END:STANDARD
BEGIN:DAYLIGHT
TZOFFSETFROM:-0800
TZOFFSETTO:-0700
TZNAME:PDT
DTSTART:20260308T100000
END:DAYLIGHT
BEGIN:STANDARD
TZOFFSETFROM:-0700
TZOFFSETTO:-0800
TZNAME:PST
DTSTART:20261101T090000
END:STANDARD
BEGIN:DAYLIGHT
TZOFFSETFROM:-0800
TZOFFSETTO:-0700
TZNAME:PDT
DTSTART:20270314T100000
END:DAYLIGHT
BEGIN:STANDARD
TZOFFSETFROM:-0700
TZOFFSETTO:-0800
TZNAME:PST
DTSTART:20271107T090000
END:STANDARD
END:VTIMEZONE
BEGIN:VEVENT
DTSTART;TZID=America/Los_Angeles:20260313T180000
DTEND;TZID=America/Los_Angeles:20260313T200000
DTSTAMP:20260423T173659
CREATED:20251107T182655Z
LAST-MODIFIED:20251202T035816Z
UID:11911-1773424800-1773432000@atouchofmystery.com
SUMMARY:Togas & TEMPTATIONS! - A St. Patrick's Day Firelight Barn Whodunit
DESCRIPTION:It’s a St. Patrick’s Day Firelight Barn Whodunit!\nTogas & Temptations\, our 2025 St. Patrick’s Day Firelight Barn Whodunit is intertwined with 3-courses of great food and 2-courses of devilishly fun entertainment. From the moment you arrive\, you are greeted by the quirky cast of characters who take you on a journey of Mystery\, Intrigue and Mayhem\, thus they create an evening of  FUN! This interactive Mystery is presented throughout your dinner\, and because our mysterious cast of characters engage you in quiet conversation while dining\, as a result\, there is a lot of mystery at hand. \nTogas & Temptations! ISN’T your “usual”  Whodunit!\n\nAdvance reservations are required and can be found on the Firelight Barn website.  \nBuy Tickets\n \n\n\n \nShow Info\n\n \nDinner Info\n\n\n\n×Show InfoTravel back in time with us to the Great Roman Empire. Our most illustrious Caesar has invited all members of his court to attend a Masquerade Gala in honor of his four simultaneous TRIUMPHS! An unparalleled feat in the annals of Roman Glory. But the road to power is never without peril. Behind the splendor lies a tale of ambition\, betrayal and bloodshed. The halls may echo with music and laughter\, but danger still lingers in the shadows … for someone will soon pay dearly for their treachery! \nWill it be: \n\nFausta The Oracle\nAugustus The Ruthless\nCalpurnia The Oppressed\nJulius Caesar\nAuralia The Nimble\nPompey The Great\n\nPut your detective hats on and solve a live Mystery as you enjoy a wonderful Whodunit Mystery Dinner!\nThis zany cast of characters will keep you engaged and laughing all night … This is Murder Mystery Dinner Theatre at its finest!You are invited to be as interactive with us as you’d like. The more you play with us\, the more fun you will have. Each table becomes an investigative team and throughout the night you will work together to come up with questions to ask the suspects so you can solve the case and be the winning team! Prizes will be awarded to the winning team(s). We also give a prize to the team that comes up with the most creative Team Name. \nEnjoy this short commercial teaser from the show\n\nClose\n×Dinner Info \nDinner Description\nGreen Salad \nENTREE\nPulled Pork Sandwich & Cowboy Beans \n*Please let us know if you require a chicken or vegetarian option \nDESSERT\nFirelight Barn Special Dessert \nONLY $52.00 plus tax and gratuity\nOne soda beverage is included in cost of ticket. \nThere are a limited number of seats available for this special event. \nClose
URL:https://atouchofmystery.com/event/togas-temptations-a-st-patricks-day/
LOCATION:Public Show @ Firelight Barn\, 546 South Boulder Highway\, Henderson\, NV\, 89015\, United States
CATEGORIES:FIrelight Barn,Upcoming Events
ATTACH;FMTTYPE=image/png:https://atouchofmystery.com/wp-content/uploads/2025/05/Slide1-copy.png
ORGANIZER;CN="A Touch of Mystery & More Entertainment Group":MAILTO:info@atouchofmystery.com
END:VEVENT
BEGIN:VEVENT
DTSTART;TZID=America/Los_Angeles:20251122T180000
DTEND;TZID=America/Los_Angeles:20251122T203000
DTSTAMP:20260423T173659
CREATED:20250801T013746Z
LAST-MODIFIED:20251121T214919Z
UID:11767-1763834400-1763843400@atouchofmystery.com
SUMMARY:Death BY Feathers! - A Thanksgiving Firelight Barn Whodunit
DESCRIPTION:It’s time for our first Thanksgiving Firelight Barn Whodunit\nThis Thanksgiving Firelight Barn Whodunit is a Musical Whodunit\, intertwined with 3-courses of great food and 2-courses of devilishly fun entertainment. From the moment you arrive\, you are greeted by the quirky cast of characters who take you on a journey of Mystery\, Intrigue and Mayhem\, thus they create an evening of  FUN! This interactive Mystery is presented throughout your dinner\, and because our mysterious cast of characters engage you in quiet conversation while dining\, as a result\, there is a lot of mystery at hand.\nDeath BY Feathers! ISN’T your “usual”  Whodunit!\n \nAdvance reservations are required and can be found on the Firelight Barn website.  \nBuy Tickets\n \n\n<!– Column 1: Show Ticket Image + Button –>\n \nShow Info\n\n<!– Column 2: Meal Ticket Image + Button –> \nDinner Info\n\n\n\n×Show Info \n\nSuzette Darling is unable to fulfill her reign as Beauty Queen\, due to an eating disorder. Tonight\, Diane Delmonico\, her 1st Runner Up is to be crowned\, but Suzette isn’t giving up her crown without a fight! Watch the fur fly in this hilarious comedy romp known as Death By Feathers! \nWill it be: \n\n\n\n\nSuzette Darling – The Reigning Beauty Queen\nVictoria Rampage – The Executive Director\nNathan Goodyear – The Pageant Coach\nEstelle Darling – The Overbearing Stage Mother\nMichelle Parks – The Disqualified Contestant\nDiane Delmonico – The 1st Runner-up\n\n\n\nEnjoy this short commercial teaser from the show \n﻿﻿<span style=”display: inline-block; width: 0px; overflow: hidden; line-height: 0;” data-mce-type=”bookmark” class=”mce_SELRES_start”>﻿</span><span style=”display: inline-block; width: 0px; overflow: hidden; line-height: 0;” data-mce-type=”bookmark” class=”mce_SELRES_start”>﻿</span><span style=”display: inline-block; width: 0px; overflow: hidden; line-height: 0;” data-mce-type=”bookmark” class=”mce_SELRES_start”>﻿</span><span style=”display: inline-block; width: 0px; overflow: hidden; line-height: 0;” data-mce-type=”bookmark” class=”mce_SELRES_start”>﻿</span><span style=”display: inline-block; width: 0px; overflow: hidden; line-height: 0;” data-mce-type=”bookmark” class=”mce_SELRES_start”>﻿</span><span style=”display: inline-block; width: 0px; overflow: hidden; line-height: 0;” data-mce-type=”bookmark” class=”mce_SELRES_start”>﻿</span><span style=”display: inline-block; width: 0px; overflow: hidden; line-height: 0;” data-mce-type=”bookmark” class=”mce_SELRES_start”>﻿</span><span style=”display: inline-block; width: 0px; overflow: hidden; line-height: 0;” data-mce-type=”bookmark” class=”mce_SELRES_start”>﻿</span><span style=”display: inline-block; width: 0px; overflow: hidden; line-height: 0;” data-mce-type=”bookmark” class=”mce_SELRES_start”>﻿</span> \nClose\n  \n×Dinner Info \nDinner Description\nGreen Salad \nENTREE\nPulled Pork Sandwich & Cowboy Beans \n*Please let us know if you require a chicken or vegetarian option \nDESSERT\nFirelight Barn Special Dessert \nONLY $52.00 plus tax and gratuity\nOne soda beverage is included in cost of ticket. \nThere are a limited number of seats available for this special event. \n  \nClose\n  \n 
URL:https://atouchofmystery.com/event/death-by-feathers-a-thanksgiving-fire/
LOCATION:Public Show @ Firelight Barn\, 546 South Boulder Highway\, Henderson\, NV\, 89015\, United States
CATEGORIES:FIrelight Barn,Public Show,Upcoming Events
ATTACH;FMTTYPE=image/jpeg:https://atouchofmystery.com/wp-content/uploads/2025/01/deathbyFeathersPoster.jpg
ORGANIZER;CN="A Touch of Mystery & More Entertainment Group":MAILTO:info@atouchofmystery.com
END:VEVENT
BEGIN:VEVENT
DTSTART;TZID=America/Los_Angeles:20250816T180000
DTEND;TZID=America/Los_Angeles:20250816T203000
DTSTAMP:20260423T173659
CREATED:20250217T072509Z
LAST-MODIFIED:20250711T194212Z
UID:11270-1755367200-1755376200@atouchofmystery.com
SUMMARY:A Recipe For MURDER! - A Sizzling Summer Firelight Whodunit
DESCRIPTION:It’s time for a Sizzling Summer Whodunit Dinner at The Firelight Barn!\nA Sizzling Summer Whodunit. A Recipe for MURDER! is a dinner theatre production; intertwined with 3-courses of great food and 2-courses of devilishly fun entertainment. From the moment you arrive at Firelight Barn\, you are greeted by the quirky cast of characters who will take you on a journey of Mystery\, Intrigue\, Mayhem & FUN! This interactive Mystery is presented throughout your dinner\, and our mysterious cast of characters will engage you in quiet conversation even while dining\, about the mystery at hand.\nA RECIPE FOR MURDER! isn’t your “usual” Mystery Dinner!\n\nAdvance reservations are required and can be found on the Firelight Barn website.  \nBuy Tickets\n \n\n<!– Column 1: Show Ticket Image + Button –>\n \nShow Info\n\n<!– Column 2: Meal Ticket Image + Button –> \nDinner Info\n\n\n\n×Show Info \n\nThe Food By Design Network has chosen The Firelight Barn to be the location for the Finale of their new runaway reality hit TV show: SO YOU THINK YOU CAN COOK? One of Mama’s Wranglers was a contestant on the show and was voted off last week. It didn’t end well and someone and their award winning soufflé are about to fall FLAT! Is it all for the ratings or is someone’s Goose Cooked! Put on your detective hats and help us solve the case! \nWill it be: \n\n\nChristie Abernathy – Finalist\nMimi St. Regis – Head Judge\nBlake Clysdale – The Acerbic Host\nRobert James – Finalist\nVivian Clysdale – The Personal Assistant\nAudrey Banks – Show Producer\n\n\nWho is actually capable of committing such a kitchen nightmare? Who is cooking the books to hide their dastardly culinary secrets? Is there enough proof in the pudding to put one of these wanna be Top Chefs away for good? If you can’t stand the heat\, it’s time to get out of the kitchen! \nEnjoy this short commercial teaser from the show \n\n﻿﻿<span style=”display: inline-block; width: 0px; overflow: hidden; line-height: 0;” data-mce-type=”bookmark” class=”mce_SELRES_start”>﻿</span><span style=”display: inline-block; width: 0px; overflow: hidden; line-height: 0;” data-mce-type=”bookmark” class=”mce_SELRES_start”>﻿</span><span style=”display: inline-block; width: 0px; overflow: hidden; line-height: 0;” data-mce-type=”bookmark” class=”mce_SELRES_start”>﻿</span><span style=”display: inline-block; width: 0px; overflow: hidden; line-height: 0;” data-mce-type=”bookmark” class=”mce_SELRES_start”>﻿</span><span style=”display: inline-block; width: 0px; overflow: hidden; line-height: 0;” data-mce-type=”bookmark” class=”mce_SELRES_start”>﻿</span><span style=”display: inline-block; width: 0px; overflow: hidden; line-height: 0;” data-mce-type=”bookmark” class=”mce_SELRES_start”>﻿</span><span style=”display: inline-block; width: 0px; overflow: hidden; line-height: 0;” data-mce-type=”bookmark” class=”mce_SELRES_start”>﻿</span><span style=”display: inline-block; width: 0px; overflow: hidden; line-height: 0;” data-mce-type=”bookmark” class=”mce_SELRES_start”>﻿</span><span style=”display: inline-block; width: 0px; overflow: hidden; line-height: 0;” data-mce-type=”bookmark” class=”mce_SELRES_start”>﻿</span> \nClose\n  \n×Dinner Info \nDinner Description\nGreen Salad \nENTREE\nPulled Pork Sandwich & Cowboy Beans \n*Please let us know if you require a chicken or vegetarian option \nDESSERT\nFirelight Barn Special Dessert \nONLY $52.00 plus tax and gratuity\nOne soda beverage is included in cost of ticket. \nThere are a limited number of seats available for this special event. \n  \nClose\n  \n 
URL:https://atouchofmystery.com/event/a-sizzling-summer-whodunit/
LOCATION:Public Show @ Firelight Barn\, 546 South Boulder Highway\, Henderson\, NV\, 89015\, United States
CATEGORIES:FIrelight Barn,Upcoming Events
ATTACH;FMTTYPE=image/png:https://atouchofmystery.com/wp-content/uploads/2024/12/arecipeforMurder-Poster.png
ORGANIZER;CN="A Touch of Mystery & More Entertainment Group":MAILTO:info@atouchofmystery.com
END:VEVENT
BEGIN:VEVENT
DTSTART;TZID=America/Los_Angeles:20250606T180000
DTEND;TZID=America/Los_Angeles:20250606T200000
DTSTAMP:20260423T173659
CREATED:20250327T232003Z
LAST-MODIFIED:20250328T000340Z
UID:11553-1749232800-1749240000@atouchofmystery.com
SUMMARY:Deception At The DISCO! - A June Firelight Barn Whodunit
DESCRIPTION:It’s a June Whodunit Dinner at The Firelight Barn!\nA June Whodunit. Deception At The DISCO! is a dinner theatre production; intertwined with 3-courses of great food and 2-courses of devilishly fun entertainment. From the moment you arrive at Firelight Barn\, you are greeted by the quirky cast of characters who will take you on a journey of Mystery\, Intrigue\, Mayhem & FUN! This interactive Mystery is presented throughout your dinner\, and our mysterious cast of characters will engage you in quiet conversation even while dining\, about the mystery at hand.\nDECEPTION AT THE DISCO! isn’t your “usual” Mystery Dinner!\n\nAdvance reservations are required and can be found on the Firelight Barn website.  \nBuy Tickets\n \n\n<!– Column 1: Show Ticket Image + Button –>\n \nShow Info\n\n<!– Column 2: Meal Ticket Image + Button –> \nDinner Info\n\n\n\n×Show Info \n\nThe Firelight Barn’s newest Event Planner Frannie Fabiano\, has put together a ’70’s DISCO Extravaganza! Three acts were hired to entertain: The Diva\, Vinnie Vegas\, and the Vinnettes\, and Troy Tritone. Everything was running smoothly\, but when The Diva finds out she isn’t the only headliner for the evening things go sour! Her ex-fiancé and backup group are also there to perform. Tempers flare and threats run wild in this Live Stream Whodunit. Someone is about to take their final bow. \nWill it be? \n\n\nFrannie Fabiano – The Event Planner\n\nVinnie Vegas – The Lounge Lizard\n\nThe Vinnettes – The Back-Up Singers\n\nThe DIVA – A Legend In Her Own Mind\n\nTroy Tritone – The Has Been Opera Singer\n\n\nEnjoy this short commercial teaser from the show\n \n\nClose\n  \n×Dinner Info \nDinner Description\nGreen Salad \nENTREE\nPulled Pork Sandwich & Cowboy Beans \n*Please let us know if you require a chicken or vegetarian option \nDESSERT\nFirelight Barn Special Dessert \nONLY $48.00 plus tax and gratuity\nOne soda beverage is included in cost of ticket. \nThere are a limited number of seats available for this special event. \n  \nClose\n  \n 
URL:https://atouchofmystery.com/event/deception-at-the-disco-a-june-firelight/
LOCATION:Public Show @ Firelight Barn\, 546 South Boulder Highway\, Henderson\, NV\, 89015\, United States
CATEGORIES:FIrelight Barn,Upcoming Events
ATTACH;FMTTYPE=image/jpeg:https://atouchofmystery.com/wp-content/uploads/2025/03/Deception-Combine-Poster.jpg
ORGANIZER;CN="A Touch of Mystery & More Entertainment Group":MAILTO:info@atouchofmystery.com
END:VEVENT
BEGIN:VEVENT
DTSTART;TZID=America/Los_Angeles:20250208T180000
DTEND;TZID=America/Los_Angeles:20250208T200000
DTSTAMP:20260423T173659
CREATED:20240913T164628Z
LAST-MODIFIED:20250130T052225Z
UID:9070-1739037600-1739044800@atouchofmystery.com
SUMMARY:Murder WASN'T on the Menu! - A Valentine's Whodunit
DESCRIPTION:Buy Tickets\nIt’s time for our very first VALENTINE’S Whodunit Dinner at The Firelight Barn!\nMurder WASN’T on the Menu! is a Valentine’s Whodunit. This Dinner Theatre presentation is intertwined with 3-courses of great food and 2-courses of devilishly fun entertainment. From the moment you arrive at Firelight Barn\, you are greeted by the quirky cast of characters who will take you on a journey of Mystery\, Intrigue\, Mayhem & FUN! This interactive Mystery is presented throughout your dinner\, and our mysterious cast of characters will engage you in quiet conversation even while dining\, about the mystery at hand. \nMurder Wasn’t on the Menu! ISN’T your “usual”  Whodunit!\n\n\nEveryone has gathered to celebrate Samantha & Brandon’s special day but something has gone terribly wrong at the Wedding Rehearsal Dinner. It is clear not everyone is happy about this union and they are NOT holding their peace. Murder is on the menu tonight! Who won’t make it down the aisle?   \nWill it be …\n \n\n\n\nAmber Adams – The Agent\n\n\n\n\nMarin Masteron – The Wedding PlannerSamantha Singleton – The Bride\n\n\n\n\nChristopher Caldwell – The Best Man\n\n\n\n\nBelinda Barry – The Lecherous Step-Mother\n\n\n\n\nBrandon Barry – The Groom\n\n\n\nPut your detective hats on and solve a live Mystery as you enjoy a wonderful Whodunit Mystery Dinner!\nThis zany cast of characters will keep you engaged and laughing all night … This is Murder Mystery Dinner Theatre at its finest!You are invited to be as interactive with us as you’d like. The more you play with us\, the more fun you will have. Each table becomes an investigative team and throughout the night you will work together to come up with questions to ask the suspects so you can solve the case and be the winning team! Prizes will be awarded to the winning team(s). We also give a prize to the team that comes up with the most creative Team Name. \n\n \nEnjoy this short commercial teaser from the show\n﻿﻿﻿﻿﻿﻿﻿﻿﻿﻿﻿ \nPut your detective hats on and solve a live Mystery while enjoying the ambiance at The Firelight Barn.\n\nIn Partnership with\n  \nDinner Description\nGreen Salad \nENTREE\nPulled Pork Sandwich & Cowboy Beans \n*Please let us know if you require a chicken or vegetarian option \nDESSERT\nFirelight Barn Special Dessert \nONLY $48.00 plus tax and gratuity\nOne soda beverage is included in cost of ticket. \nThere are a limited number of seats available for this special event. \n  \nAdvance reservations are required and can be found on the Firelight Barn website.  \nTo purchase your seats\, click here. \n \n\n 
URL:https://atouchofmystery.com/event/murder-wasnt-on-the-menu-a-valentines-whodunit/
LOCATION:Public Show @ Firelight Barn\, 546 South Boulder Highway\, Henderson\, NV\, 89015\, United States
CATEGORIES:FIrelight Barn,Upcoming Events
ATTACH;FMTTYPE=image/jpeg:https://atouchofmystery.com/wp-content/uploads/2024/09/MurderwasntonTheMenu-e1737166543926.jpg
ORGANIZER;CN="A Touch of Mystery & More Entertainment Group":MAILTO:info@atouchofmystery.com
END:VEVENT
BEGIN:VEVENT
DTSTART;TZID=America/Los_Angeles:20240406T180000
DTEND;TZID=America/Los_Angeles:20240406T200000
DTSTAMP:20260423T173659
CREATED:20231023T223238Z
LAST-MODIFIED:20231025T204012Z
UID:8276-1712426400-1712433600@atouchofmystery.com
SUMMARY:Mystery at the EARTHQUAKE Saloon! - A Firelight Barn Whodunit
DESCRIPTION:Back by POPULAR DEMAND … A Touch of Mystery returns to The Firelight Barn!\nOur last Firelight Barn Whodunit sold out so we’re bringing you another one. This Dinner Theatre Whodunit is intertwined with 3-courses of great food and 2-courses of devilishly fun entertainment. From the moment you arrive at Firelight Barn\, you are greeted by the quirky cast of characters who will take you on a journey of Mystery\, Intrigue\, Mayhem & FUN! This interactive Mystery is presented throughout your dinner\, and our mysterious cast of characters will engage you in quiet conversation even while dining\, about the mystery at hand. \nMYSTERY AT THE EARTHQUAKE SALOON! ISN’T your “usual” Mystery Dinner! \nJourney back to the Old West … Guests are all town folk who have gathered for the wedding of Rattlesnake Dick (the town CAD) and Bethany Sanders (the Mail Order Bride). Not everyone is happy about this union and Moonshine isn’t the only thing hitting the pavement tonight! \nWho will bite the dust? \n\nBad Luck Claude – The Saloon Owner\nMiss Loretta – The Town Madame\nRattlesnake Dick – A Womanizing Cad\nBethany Sanders – The Mail Order Bride\nBuddy – The “Good Old Boy”\nHattie McPhearson – The Crazy Hill Person\n\nThis zany cast of characters will keep you engaged and laughing all night … This is Murder Mystery Dinner Theatre at its finest!You are invited to be as interactive with us as you’d like. The more you play with us\, the more fun you will have. Each table becomes an investigative team and throughout the night you will work together to come up with questions to ask the suspects so you can solve the case and be the winning team! Prizes will be awarded to the winning team(s). We also give a prize to the team that comes up with the most creative Team Name. You can even wear your favorite western clothing. \nPresented At\n \nEnjoy this short commercial teaser from the show\n﻿﻿﻿﻿﻿﻿﻿﻿ \nPut your detective hats on and solve a live Mystery while enjoying the ambiance at Firelight Barn.\n\nIn Partnership with\n \nDinner Description\nGreen Salad \nENTREE\nPulled Pork Sandwich & Cowboy Beans \n*Please let us know if you require a vegetarian option \nDESSERT\nFirelight Barn Special Dessert \nONLY $46.00 plus tax and gratuity\nOne soda beverage is included in cost of ticket. \nThere are a limited number of seats available for this special event. \n  \nAdvance reservations are required and can be found on the Firelight Barn website.  \nTo purchase your seats\, click here. \n \n\n 
URL:https://atouchofmystery.com/event/mystery-at-the-earthquake-saloon-a-firelight-barn-whodunit/
LOCATION:Public Show @ Firelight Barn\, 546 South Boulder Highway\, Henderson\, NV\, 89015\, United States
CATEGORIES:FIrelight Barn,Upcoming Events
ATTACH;FMTTYPE=image/jpeg:https://atouchofmystery.com/wp-content/uploads/2020/01/earthquakeSaloonPoster-1.jpg
ORGANIZER;CN="A Touch of Mystery & More Entertainment Group":MAILTO:info@atouchofmystery.com
END:VEVENT
BEGIN:VEVENT
DTSTART;TZID=America/Los_Angeles:20231021T180000
DTEND;TZID=America/Los_Angeles:20231021T200000
DTSTAMP:20260423T173659
CREATED:20230403T175715Z
LAST-MODIFIED:20230412T175551Z
UID:7695-1697911200-1697918400@atouchofmystery.com
SUMMARY:LETHAL Libations! - A Musical Whodunit Dinner For Firelight Barn
DESCRIPTION:It’s time for our annual Halloween\n\nMusical Whodunit for Firelight Barn!\n\n*ALL RESERVATION FEES ARE NON-REFUNDABLE \nOur last Musical Whodunit for Firelight Barn sold out so we’re bringing you another one. This Dinner Theatre Whodunit is intertwined with 3-courses of great food and 2-courses of devilishly fun entertainment. From the moment you arrive at Firelight Barn\, you are greeted by the quirky cast of characters who will take you on a journey of Mystery\, Intrigue\, Mayhem & FUN! This interactive Mystery is presented throughout your dinner\, and our mysterious cast of characters will engage you in quiet conversation even while dining\, about the mystery at hand. \nLIBATIONS! ISN’T your “usual” Mystery Dinner! \n\nJourney back to the original Roaring 20’s! Firelight Barn is hosting the Third Annual Gallespi Winery Taste Test in Las Vegas. Irwin Gallespi is going to introduce his newest line of wines and make a surprise announcement\, but many surprises are about to come UN-corked and someone is going to take their LAST sip! \nWill it be: \n\n\n\nPriscilla Gallespi – The Outcast Sister\nGrant Taylor – The Accountant\nIrwin Gallespi – The Winery Owner\nGeorgia Munsey – The Reporter\nLeland Fitzgerald – The Speakeasy Owner\nClaire Valentine – The Personal Nurse\n\n\n  \nEnjoy this short commercial teaser from the show\n﻿﻿﻿﻿﻿﻿﻿ \nPut your detective hats on and solve a live Mystery while enjoying the ambiance at Firelight Barn.\n\nIn Partnership with\n \nDinner Description\nGreen Salad \nENTREE\nPulled Pork Sandwich & Cowboy Beans \n*Please let us know if you require a vegetarian option \nDESSERT\nFirelight Barn Special Dessert \nONLY $46.00 plus tax and gratuity\nOne soda beverage is included in cost of ticket. \nThere are a limited number of seats available for this special event. \n  \nAdvance reservations are required and can be found on the Firelight Barn website. Click on the links below based on the show time you would like to attend. \nTo purchase your seats\, click here. \n \n\n 
URL:https://atouchofmystery.com/event/lethal-libations-a-musical-whodunit-dinner-for-firelight-barn/
LOCATION:Public Show @ Firelight Barn\, 546 South Boulder Highway\, Henderson\, NV\, 89015\, United States
CATEGORIES:FIrelight Barn,Upcoming Events
ATTACH;FMTTYPE=image/jpeg:https://atouchofmystery.com/wp-content/uploads/2021/11/Lethal2016.jpg
ORGANIZER;CN="A Touch of Mystery & More Entertainment Group":MAILTO:info@atouchofmystery.com
END:VEVENT
BEGIN:VEVENT
DTSTART;TZID=America/Los_Angeles:20230318T180000
DTEND;TZID=America/Los_Angeles:20230318T200000
DTSTAMP:20260423T173659
CREATED:20230106T182843Z
LAST-MODIFIED:20230106T182843Z
UID:7514-1679162400-1679169600@atouchofmystery.com
SUMMARY:The Case of the UN-Lucky Leprechaun! - A Firelight Barn Whodunit
DESCRIPTION:It’s a New Year and time for \nA Firelight Barn Whodunit! \n*ALL RESERVATION FEES ARE NON-REFUNDABLE \nOur last Firelight Barn Whodunit sold out so we’re bringing you another one. This Dinner Theatre Whodunit is intertwined with 3-courses of great food and 2-courses of devilishly fun entertainment. From the moment you arrive at Firelight Barn\, you are greeted by the quirky cast of characters who will take you on a journey of Mystery\, Intrigue\, Mayhem & FUN! This interactive Mystery is presented throughout your dinner\, and our mysterious cast of characters will engage you in quiet conversation even while dining\, about the mystery at hand. \nThe Case of the UN-Lucky Leprechaun ISN’T your “usual” dinner theater production! \n \nAfter the success of The Lucky Leprechaun Irish Pub\, Lucky O’Grautin s auctioning off the recipe for his famous Wild Irish Kiss. It is said there is a secret ingredient; and that secret is Irish MAGIC! There are some who feel entitled to the recipe and someone’s luck is about to run out! \nWill it be? \nJerry O’Shaughnessy – Owner of the Leprechaun Pub in NYC\nVera Denton – Rival Bar Owner & SOAP Star\nLucky O’Grautin – Owner of the Lucky Leprechaun Irish Pub\nChance Cavallo – Manager of the Lucky Leprechaun\nJudith Kearney – Reality TV Producer\nVictor Douglas – The Liquor Distributor\n \nEnjoy this short commercial teaser from the show\n﻿﻿﻿﻿﻿﻿ \nPut your detective hats on and solve a live Mystery while enjoying the ambiance at Firelight Barn.\n\nIn Partnership with\n \nDinner Description\nGreen Salad \nENTREE\nPulled Pork Sandwich & Cowboy Beans \n*Please let us know if you require a vegetarian option \nDESSERT\nFirelight Barn Special Dessert \nONLY $46.00 \nOne soda beverage is included in cost of ticket. Inclusive of tax\, and the Mystery! Gratuity is separate.\nThere are a limited number of seats available for this special event. \n  \nAdvance reservations are required and can be found on the Firelight Barn website. Click on the links below based on the show time you would like to attend. \nTo purchase your seats\, click here. \n \n\n 
URL:https://atouchofmystery.com/event/the-case-of-the-un-lucky-leprechaun-a-firelight-barn-whodunit/
LOCATION:Public Show @ Firelight Barn\, 546 South Boulder Highway\, Henderson\, NV\, 89015\, United States
CATEGORIES:FIrelight Barn,Upcoming Events
ATTACH;FMTTYPE=image/png:https://atouchofmystery.com/wp-content/uploads/2021/09/UnLuckyLeprechaunPosterBig.png
ORGANIZER;CN="A Touch of Mystery & More Entertainment Group":MAILTO:info@atouchofmystery.com
END:VEVENT
END:VCALENDAR