BEGIN:VCALENDAR
VERSION:2.0
PRODID:-//A Touch of Mystery &amp; More Entertainment Group - ECPv6.15.20//NONSGML v1.0//EN
CALSCALE:GREGORIAN
METHOD:PUBLISH
X-WR-CALNAME:A Touch of Mystery &amp; More Entertainment Group
X-ORIGINAL-URL:https://atouchofmystery.com
X-WR-CALDESC:Events for A Touch of Mystery &amp; More Entertainment Group
REFRESH-INTERVAL;VALUE=DURATION:PT1H
X-Robots-Tag:noindex
X-PUBLISHED-TTL:PT1H
BEGIN:VTIMEZONE
TZID:America/Los_Angeles
BEGIN:DAYLIGHT
TZOFFSETFROM:-0800
TZOFFSETTO:-0700
TZNAME:PDT
DTSTART:20200308T100000
END:DAYLIGHT
BEGIN:STANDARD
TZOFFSETFROM:-0700
TZOFFSETTO:-0800
TZNAME:PST
DTSTART:20201101T090000
END:STANDARD
BEGIN:DAYLIGHT
TZOFFSETFROM:-0800
TZOFFSETTO:-0700
TZNAME:PDT
DTSTART:20210314T100000
END:DAYLIGHT
BEGIN:STANDARD
TZOFFSETFROM:-0700
TZOFFSETTO:-0800
TZNAME:PST
DTSTART:20211107T090000
END:STANDARD
BEGIN:DAYLIGHT
TZOFFSETFROM:-0800
TZOFFSETTO:-0700
TZNAME:PDT
DTSTART:20220313T100000
END:DAYLIGHT
BEGIN:STANDARD
TZOFFSETFROM:-0700
TZOFFSETTO:-0800
TZNAME:PST
DTSTART:20221106T090000
END:STANDARD
END:VTIMEZONE
BEGIN:VEVENT
DTSTART;TZID=America/Los_Angeles:20211030T180000
DTEND;TZID=America/Los_Angeles:20211030T200000
DTSTAMP:20260421T145434
CREATED:20210901T232258Z
LAST-MODIFIED:20210902T005126Z
UID:6767-1635616800-1635624000@atouchofmystery.com
SUMMARY:Murder BY Association! - A Halloween Mystery Dinner for Siena Residents
DESCRIPTION:THIS IS A PRIVATE HALLOWEEN MYSTERY DINNER FOR SIENA RESIDENTS\nTo book this show\, contact us at 702-497-7936 or email us at info@atouchofmystery.com\n\n  \nMurder BY Association ISN’T your “usual” dinner theater production! \n  \nThe Weekender’s Club disbanded two years ago after Evelyn Drawbridge was found dead at their last gathering. All was quiet after Evelyn’s death was deemed an accident until members received an anonymous invitation to attend a Masquerade Reunion party in Evelyn’s honor. Who is trying to pull the wool over who’s eyes? Watch the antics unfold as the masks come off! \n  \nBe on the lookout for the following characters: \n  \n\nBen Keetling – The off-OFF Broadway Composer \nCecily Keetling – High Society Debutante \nAmanda Emery – Heiress to the Emery-board fortune \nPatricia “PEACHES” Mallory – Creator of the Weekender’s Club \nAndrew Drawbridge-Manilow – Evelyn’s Fraternal Twin Brother \n\n  \nEnjoy this short commercial teaser from the show \n  \nOur mysteries are perfect for LIVE & Virtual Corporate Events\, Team Building Activities\, Fundraisers\, Private Parties\, Reunions\, Casino Special Events and VIP Player Entertainment because they are interactive and a lot of fun. Therefore\, they give guests an opportunity to meet and work together to solve the case! Besides being filled with intrigue\, mystery and mayhem\, our stories can be customized for any event. From the moment they arrive\, guests are greeted by a quirky cast of characters who take them on a journey they will remember for days to come. Most importantly\, they will laugh the night away. This is a slice of devilishly fun entertainment! \nTo book this show\, contact us at 702-497-7936 or email us at info@atouchofmystery.com
URL:https://atouchofmystery.com/event/murder-by-association-a-halloween-mystery-dinner-for-siena-residents/
LOCATION:CA
CATEGORIES:Upcoming Events
ATTACH;FMTTYPE=image/jpeg:https://atouchofmystery.com/wp-content/uploads/2020/01/murderbyAssoc.jpg
ORGANIZER;CN="A Touch of Mystery & More Entertainment Group":MAILTO:info@atouchofmystery.com
END:VEVENT
END:VCALENDAR