BEGIN:VCALENDAR
VERSION:2.0
PRODID:-//A Touch of Mystery &amp; More Entertainment Group - ECPv6.15.20//NONSGML v1.0//EN
CALSCALE:GREGORIAN
METHOD:PUBLISH
X-ORIGINAL-URL:https://atouchofmystery.com
X-WR-CALDESC:Events for A Touch of Mystery &amp; More Entertainment Group
REFRESH-INTERVAL;VALUE=DURATION:PT1H
X-Robots-Tag:noindex
X-PUBLISHED-TTL:PT1H
BEGIN:VTIMEZONE
TZID:America/Los_Angeles
BEGIN:DAYLIGHT
TZOFFSETFROM:-0800
TZOFFSETTO:-0700
TZNAME:PDT
DTSTART:20190310T100000
END:DAYLIGHT
BEGIN:STANDARD
TZOFFSETFROM:-0700
TZOFFSETTO:-0800
TZNAME:PST
DTSTART:20191103T090000
END:STANDARD
BEGIN:DAYLIGHT
TZOFFSETFROM:-0800
TZOFFSETTO:-0700
TZNAME:PDT
DTSTART:20200308T100000
END:DAYLIGHT
BEGIN:STANDARD
TZOFFSETFROM:-0700
TZOFFSETTO:-0800
TZNAME:PST
DTSTART:20201101T090000
END:STANDARD
BEGIN:DAYLIGHT
TZOFFSETFROM:-0800
TZOFFSETTO:-0700
TZNAME:PDT
DTSTART:20210314T100000
END:DAYLIGHT
BEGIN:STANDARD
TZOFFSETFROM:-0700
TZOFFSETTO:-0800
TZNAME:PST
DTSTART:20211107T090000
END:STANDARD
END:VTIMEZONE
BEGIN:VEVENT
DTSTART;TZID=America/Los_Angeles:20200711T120000
DTEND;TZID=America/Los_Angeles:20200711T130000
DTSTAMP:20260422T201528
CREATED:20200708T052110Z
LAST-MODIFIED:20200708T052216Z
UID:5367-1594468800-1594472400@atouchofmystery.com
SUMMARY:Ruby’s Riddle – A Gem of a Who Dunnit for Lawry’s Chicago
DESCRIPTION:Ruby’s Riddle – A Gem of a Who Dunnit for Lawry’s Chicago\n\n\nThis event is on July 11\, 2020\, 7:00 pm \n\n\n\nIN-HOME LIVE STREAM INTERACTIVE MYSTERY DINNER!\n\n*The meal portion is only available for guests in Chicago. \n*See below message in red if you are not local in Chicago and want to attend the show.\n \nA Touch of Mystery & Lawry’s Prime Rib Chicago presents the next installment of their in-home Live Stream Interactive Mystery Dinners. It’s no MYSTERY entertainment & laughter are needed at this time\, and what better way to experience that than with Lawry’s signature 3-course meal along with 3 courses of Mystery\, Mayhem\, Intrigue\, and FUN! This Interactive Mystery Dinner features a full 3-course meal intertwined with devilishly fun entertainment. Once you make your reservation\, one of our Detectives will contact you for your meal order. Meals will be available for pick up between 4:30 & 6:30pm and the Live Stream show begins at 7:00pm (CST)\, 5pm (PST)\, 8pm (EST). \nIn order to watch the show\, you will need to download ZOOM onto your computer\, phone\, or tablet by going to zoom.us. It is a free program. Once you download it\, you will need to create an account. If you need assistance with downloading the app\, we will be happy to send you step by step directions. \nRuby’s Riddle ISN’T your “usual” dinner theater production! \n \nIt’s the original Roaring 20’s. Dame Ruby Lassiter has assembled an expedition to find a new and rare form of Jade\, known for it’s preserving qualities. Vanity and money make people do strange things. Everyone on the expedition has their own agenda and someone is bout to SNAP or be SNAPPED! \n\n\nWill it be:\n\n\nCrystal Hughes – Museum Curator\nPearl Vanderbilt – New York Socialite\nDame Ruby Lassiter – The Gallery Owner\nEdward Diamond – Dame Ruby’s Nephew\nOpal S. Ince – The Queen’s Jewelry Designer\nStephen Sapphire – Hugo Lassiter’s Illegitimate Son\n\n\n\n\nIn Partnership with\n \n100 East Ontario Street\, Chicago\, IL 60611 \nEnjoy this short commercial teaser from the show\n \nDINNER DESCRIPTION\n \nLawry’s Spinning Bowl Salad\nSourdough bread and butter\nENTREE – OPTION A\n \n($86 per person\, inclusive of tax and the mystery) \nCHOICE OF\n\n10 oz. Lawry’s Cut or 8 oz. Center Cut Filet\n\nServed with Mashed Potatoes & gravy\, au jus\, horseradish\n\nOR YOUR CHOICE OF\n\nPan-Seared Faroe Island Salmon\, served with mashed potatoes & harred broccolini\nOR\nRoasted Cauliflower Steak\, served with lemon garlic oil and herbed faro\n\nDESSERT\nChocolate Cake with Merlot infused Michigan cherries\n\n\nENTREE – OPTION B\n \n($99 per person\, inclusive of tax and the mystery) \n*$13 difference to be paid at time of pick up \n\n\n16 oz. Diamond Jim Brady Upgrade\n\nServed with Mashed Potatoes & gravy\, au jus\, Yorkshire Pudding\, horseradish\n\n\n\n\n \nFor $40 additional\, enjoy your meal with a\n2018 J Lohr “Flume Crossing’ Sauvignon Blanc and a 2017 J Lohr “Los Osos’ Merlot\n\n*Wine purchase to be paid at time of pick up\n\nGratuities are welcome at the time of food pick-up.\n*All reservations with meals need to be in by July 10th at 6 pm\nIf you are not in Chicago but would like to participate in the show\,\nplease contact us directly at 702-497-7936 to purchase a spot for a\ndiscounted price of $25 (non-refundable)\n\n\n\n\n\nZOOM only allows up to 100 people to view this event.\nSecure your reservation now by clicking the reserve button below.\nALL RESERVATION FEES ARE NON-REFUNDABLE \nAfter you have completed this process you will receive a confirmation email from PayPal. If you do not receive one within a few hours\, please contact us. \n*Please be advised before making your reservation:\n\nWe cannot be responsible for the quality of the video or audio for this presentation\, as it may be affected by any of the following:\n\nIf you have a low or slow bandwidth wifi\nThe number of people using the internet or ZOOM at any given time\n\n\nIn order for you to be heard during the investigation\, you need to make sure your computer has a microphone.\n\nIt would be best to test your audio the day before to make sure everything is in working order.\nThe day of the show\, make sure the sound on your computer\, phone\, or tablet is on (un-muted) so you can hear.\n\n\n\n\nFor security purposes\, we are locking access to the presentation at 7:15 pm. Anyone logging into the presentation later than 7:15 pm will not be able to gain access and refunds will not be available.
URL:https://atouchofmystery.com/event/rubys-riddle-a-gem-of-a-who-dunnit-for-lawrys-chicago/
LOCATION:In-Home Live Stream
CATEGORIES:Upcoming Events
ATTACH;FMTTYPE=image/jpeg:https://atouchofmystery.com/wp-content/uploads/2020/07/rubysRiddlePoster.jpg
ORGANIZER;CN="A Touch of Mystery & More Entertainment Group":MAILTO:info@atouchofmystery.com
END:VEVENT
END:VCALENDAR